BEGIN:VCALENDAR
VERSION:2.0
PRODID:-//wp-events-plugin.com//7.2.3.1//EN
TZID:Europe/Amsterdam
X-WR-TIMEZONE:Europe/Amsterdam
BEGIN:VEVENT
UID:148@schutterijemm.nl
DTSTART;VALUE=DATE:20260427
DTEND;VALUE=DATE:20260428
DTSTAMP:20251211T195759Z
URL:https://www.schutterijemm.nl/events/koningsdag-5/
SUMMARY:Koningsdag
DESCRIPTION:
CATEGORIES:evenement,Overige
END:VEVENT
END:VCALENDAR