BEGIN:VCALENDAR
VERSION:2.0
PRODID:-//wp-events-plugin.com//7.2.3.1//EN
TZID:Europe/Amsterdam
X-WR-TIMEZONE:Europe/Amsterdam
BEGIN:VEVENT
UID:147@schutterijemm.nl
DTSTART:20260611T200000Z
DTEND:20260611T213000Z
DTSTAMP:20251211T195410Z
URL:https://www.schutterijemm.nl/events/oefenavond-kader-2/
SUMMARY:Oefenavond (kader)
DESCRIPTION:Donderdagavond 11 juni oefenavond voor het kader
CATEGORIES:Overige
END:VEVENT
END:VCALENDAR